BEGIN:VCALENDAR
VERSION:2.0
PRODID:-//Ambulance Cost Collection Education - ECPv6.15.17.1//NONSGML v1.0//EN
CALSCALE:GREGORIAN
METHOD:PUBLISH
X-WR-CALNAME:Ambulance Cost Collection Education
X-ORIGINAL-URL:https://ambulancereports.org
X-WR-CALDESC:Events for Ambulance Cost Collection Education
REFRESH-INTERVAL;VALUE=DURATION:PT1H
X-Robots-Tag:noindex
X-PUBLISHED-TTL:PT1H
BEGIN:VTIMEZONE
TZID:America/New_York
BEGIN:DAYLIGHT
TZOFFSETFROM:-0500
TZOFFSETTO:-0400
TZNAME:EDT
DTSTART:20180311T070000
END:DAYLIGHT
BEGIN:STANDARD
TZOFFSETFROM:-0400
TZOFFSETTO:-0500
TZNAME:EST
DTSTART:20181104T060000
END:STANDARD
BEGIN:DAYLIGHT
TZOFFSETFROM:-0500
TZOFFSETTO:-0400
TZNAME:EDT
DTSTART:20190310T070000
END:DAYLIGHT
BEGIN:STANDARD
TZOFFSETFROM:-0400
TZOFFSETTO:-0500
TZNAME:EST
DTSTART:20191103T060000
END:STANDARD
BEGIN:DAYLIGHT
TZOFFSETFROM:-0500
TZOFFSETTO:-0400
TZNAME:EDT
DTSTART:20200308T070000
END:DAYLIGHT
BEGIN:STANDARD
TZOFFSETFROM:-0400
TZOFFSETTO:-0500
TZNAME:EST
DTSTART:20201101T060000
END:STANDARD
END:VTIMEZONE
BEGIN:VEVENT
DTSTART;VALUE=DATE:20191125
DTEND;VALUE=DATE:20191126
DTSTAMP:20260419T204541
CREATED:20190906T171126Z
LAST-MODIFIED:20190906T171126Z
UID:628-1574640000-1574726399@ambulancereports.org
SUMMARY:TEMSA AAA Cost Collection Presentation
DESCRIPTION:AAA Cost Collection Faculty will be presenting a session at the Texas EMS Alliance Conference.
URL:https://ambulancereports.org/aaaevent/temsa-aaa-cost-collection-presentation/
CATEGORIES:State Association Meeting
END:VEVENT
BEGIN:VEVENT
DTSTART;VALUE=DATE:20191108
DTEND;VALUE=DATE:20191109
DTSTAMP:20260419T204541
CREATED:20190906T170723Z
LAST-MODIFIED:20190906T170723Z
UID:626-1573171200-1573257599@ambulancereports.org
SUMMARY:Alabama Ambulance Association AAA Cost Collection Presentation
DESCRIPTION:AAA Cost Collection Faculty will be presenting a session at the Alabama Ambulance Association’s Annual EMS Conference.
URL:https://ambulancereports.org/aaaevent/alabama-ambulance-association-aaa-cost-collection-presentation/
CATEGORIES:State Association Meeting
END:VEVENT
BEGIN:VEVENT
DTSTART;VALUE=DATE:20191009
DTEND;VALUE=DATE:20191010
DTSTAMP:20260419T204541
CREATED:20190916T150609Z
LAST-MODIFIED:20190916T150609Z
UID:650-1570579200-1570665599@ambulancereports.org
SUMMARY:Massachusetts Essex County Fire Chief's Association Cost Collection Presentation
DESCRIPTION:AAA ACE Faculty\, Scott Moore\, is presenting a session on Cost Data Collection to the Massachusetts Essex County Fire Chief’s Association.
URL:https://ambulancereports.org/aaaevent/massachusetts-essex-county-fire-chiefs-association-cost-collection-presentation/
CATEGORIES:State Association Meeting
END:VEVENT
BEGIN:VEVENT
DTSTART;VALUE=DATE:20191002
DTEND;VALUE=DATE:20191003
DTSTAMP:20260419T204541
CREATED:20190906T170003Z
LAST-MODIFIED:20190906T170003Z
UID:624-1569974400-1570060799@ambulancereports.org
SUMMARY:Texas Ambulance Association AAA Cost Collection Presentation
DESCRIPTION:The AAA’s Cost Collection Faculty will be presenting for the TAA.
URL:https://ambulancereports.org/aaaevent/texas-ambulance-association-aaa-cost-collection-presentation/
CATEGORIES:State Association Meeting
END:VEVENT
BEGIN:VEVENT
DTSTART;VALUE=DATE:20190930
DTEND;VALUE=DATE:20191001
DTSTAMP:20260419T204541
CREATED:20190906T165711Z
LAST-MODIFIED:20190906T170057Z
UID:621-1569801600-1569887999@ambulancereports.org
SUMMARY:Mississippians for EMS AAA Cost Collection Presentation
DESCRIPTION:At the MEMs annual conference AAA Cost Collection experts\, Scott Moore and Brian Werfel\, will be presenting a session on Ambulance Cost Collection.
URL:https://ambulancereports.org/aaaevent/mississippians-for-ems-aaa-cost-collection-presentation/
CATEGORIES:State Association Meeting
END:VEVENT
BEGIN:VEVENT
DTSTART;VALUE=DATE:20190926
DTEND;VALUE=DATE:20190927
DTSTAMP:20260419T204541
CREATED:20190906T163116Z
LAST-MODIFIED:20190906T163116Z
UID:619-1569456000-1569542399@ambulancereports.org
SUMMARY:California Ambulance Association AAA Cost Collection Presentation
DESCRIPTION:
URL:https://ambulancereports.org/aaaevent/california-ambulance-association-aaa-cost-collection-presentation/
CATEGORIES:State Association Meeting
END:VEVENT
BEGIN:VEVENT
DTSTART;VALUE=DATE:20190917
DTEND;VALUE=DATE:20190918
DTSTAMP:20260419T204541
CREATED:20190906T162529Z
LAST-MODIFIED:20190906T162529Z
UID:617-1568678400-1568764799@ambulancereports.org
SUMMARY:Illinois State Ambulance Association AAA Cost Collection Session
DESCRIPTION:
URL:https://ambulancereports.org/aaaevent/illinois-state-ambulance-association-aaa-cost-collection-session/
CATEGORIES:State Association Meeting
END:VEVENT
BEGIN:VEVENT
DTSTART;TZID=America/New_York:20190909T080000
DTEND;TZID=America/New_York:20190909T160000
DTSTAMP:20260419T204541
CREATED:20190906T162248Z
LAST-MODIFIED:20190906T162348Z
UID:613-1568016000-1568044800@ambulancereports.org
SUMMARY:Maine Ambulance Association AAA Cost Collection Workshop
DESCRIPTION:AAA Cost Collection experts\, Rebecca Williamson and Scott Moore\, will be presenting a full-day workshop for the Maine Ambulance Association’s membership.
URL:https://ambulancereports.org/aaaevent/maine-ambulance-association-cost-collection-presentation/
LOCATION:Hilton Garden Inn\, 5 Park St\, Freeport\, ME\, 04032\, United States
CATEGORIES:State Association Meeting
END:VEVENT
END:VCALENDAR