BEGIN:VCALENDAR
VERSION:2.0
PRODID:-//Ambulance Cost Collection Education - ECPv6.15.17.1//NONSGML v1.0//EN
CALSCALE:GREGORIAN
METHOD:PUBLISH
X-ORIGINAL-URL:https://ambulancereports.org
X-WR-CALDESC:Events for Ambulance Cost Collection Education
REFRESH-INTERVAL;VALUE=DURATION:PT1H
X-Robots-Tag:noindex
X-PUBLISHED-TTL:PT1H
BEGIN:VTIMEZONE
TZID:America/New_York
BEGIN:DAYLIGHT
TZOFFSETFROM:-0500
TZOFFSETTO:-0400
TZNAME:EDT
DTSTART:20210314T070000
END:DAYLIGHT
BEGIN:STANDARD
TZOFFSETFROM:-0400
TZOFFSETTO:-0500
TZNAME:EST
DTSTART:20211107T060000
END:STANDARD
BEGIN:DAYLIGHT
TZOFFSETFROM:-0500
TZOFFSETTO:-0400
TZNAME:EDT
DTSTART:20220313T070000
END:DAYLIGHT
BEGIN:STANDARD
TZOFFSETFROM:-0400
TZOFFSETTO:-0500
TZNAME:EST
DTSTART:20221106T060000
END:STANDARD
BEGIN:DAYLIGHT
TZOFFSETFROM:-0500
TZOFFSETTO:-0400
TZNAME:EDT
DTSTART:20230312T070000
END:DAYLIGHT
BEGIN:STANDARD
TZOFFSETFROM:-0400
TZOFFSETTO:-0500
TZNAME:EST
DTSTART:20231105T060000
END:STANDARD
END:VTIMEZONE
BEGIN:VEVENT
DTSTART;TZID=America/New_York:20220212T130000
DTEND;TZID=America/New_York:20220212T173000
DTSTAMP:20260419T221544
CREATED:20220104T143942Z
LAST-MODIFIED:20220104T144211Z
UID:1010-1644670800-1644687000@ambulancereports.org
SUMMARY:ACE Cost Collection Workshop at the South Dakota Ambulance Association Conference
DESCRIPTION:ACE Faculty Members Michelle Anderson & Steve Wirth will be presenting a 4 hour Cost Collection Workshop at the South Dakota Ambulance Association’s annual conference on Saturday\, February 12\, 2022. \nCLICK HERE for event details.
URL:https://ambulancereports.org/aaaevent/ace-cost-collection-workshop-at-the-south-dakota-ambulance-association-conference/
LOCATION:Pierre\, SD\, 312 Island Dr\, Pierre\, SD\, 57532\, United States
END:VEVENT
END:VCALENDAR